BEGIN:VCALENDAR
VERSION:2.0
PRODID:-//hacksw/handcal//NONSGML v1.0//EN
CALSCALE:GREGORIAN
BEGIN:VEVENT
DTEND:20210429T143000Z
UID:69eb2df007293
DTSTAMP:19700101T000000Z
LOCATION:
DESCRIPTION:Wie wirkt ein Klassenraum, der komplett mit Packpapier ausgekleidet wurde und keinerlei Ausstattung enthält? Wie wird hier unterrichtet? Und wie wirkt so ein Raum auf Euch?
URL;VALUE=URI:https://dev.koelner-wissenschaftsrunde.de/kwr_termine/das-bewusste-erleben-eines-innenraums/
SUMMARY:Das bewusste Erleben eines Innenraums
DTSTART:20210429T130000Z
END:VEVENT
END:VCALENDAR