BEGIN:VCALENDAR
VERSION:2.0
PRODID:-//hacksw/handcal//NONSGML v1.0//EN
CALSCALE:GREGORIAN
BEGIN:VEVENT
DTEND:20260401T160000Z
UID:69e88e55cd16a
DTSTAMP:19700101T000000Z
LOCATION:
DESCRIPTION:In unserem Workshop gucken wir uns an, was Stress eigentlich ist, was der mit uns macht und wie wir ein bisschen Ruhe und Entspannung ins Leben bringen können.
URL;VALUE=URI:https://dev.koelner-wissenschaftsrunde.de/kwr_termine/emil-und-der-stress-2/
SUMMARY:Emil und der Stress
DTSTART:20260401T143000Z
END:VEVENT
END:VCALENDAR