BEGIN:VCALENDAR
VERSION:2.0
PRODID:-//hacksw/handcal//NONSGML v1.0//EN
CALSCALE:GREGORIAN
BEGIN:VEVENT
DTEND:20221119T100000Z
UID:69e6383b6744b
DTSTAMP:19700101T000000Z
LOCATION:
DESCRIPTION:Die Kunsthochschule für Medien Köln (KHM) ist auch dieses Jahr auf der ART COLOGNE präsent. Die diesjährige Sonderschau der KHM stellt Werke der Absolvent*innen und Diplomand*innen Will Fredo, Kristina Lenz & Alex Simon Klug, Nikolas Müller, Shuree Sarantuya und Nathan Schönewolf vor.
URL;VALUE=URI:https://dev.koelner-wissenschaftsrunde.de/kwr_termine/khm-auf-der-art-cologne/
SUMMARY:KHM auf der ART COLOGNE
DTSTART:20221116T100000Z
END:VEVENT
END:VCALENDAR