BEGIN:VCALENDAR
VERSION:2.0
PRODID:-//hacksw/handcal//NONSGML v1.0//EN
CALSCALE:GREGORIAN
BEGIN:VEVENT
DTEND:20210302T070000Z
UID:69eb5418396ff
DTSTAMP:19700101T000000Z
LOCATION:
DESCRIPTION:Die KölnerKinderUni 2021 startet wie in jedem Jahr an der Universität zu Köln. Zu einem bunten Online-Programm gehören Themen wie Hirngesundheit, Diebstahl oder Experimente in den eigenen vier Wänden.
URL;VALUE=URI:https://dev.koelner-wissenschaftsrunde.de/kwr_termine/anmeldestart-koelnerkinderuni/
SUMMARY:Anmeldestart an der Uni Köln
DTSTART:20210216T070000Z
END:VEVENT
END:VCALENDAR