BEGIN:VCALENDAR
VERSION:2.0
PRODID:-//hacksw/handcal//NONSGML v1.0//EN
CALSCALE:GREGORIAN
BEGIN:VEVENT
DTEND:20251216T164500Z
UID:69e624908a4f6
DTSTAMP:19700101T000000Z
LOCATION:
DESCRIPTION:Die Ringvorlesungen widmen sich den globalen Herausforderungen, die im Spannungsfeld von Klimawandel, Nachhaltigkeit und globaler Ernährungssicherung entstehen. Diese sind sehr vielfältig und oft eng miteinander verknüpft. Um tragfähige Lösungen zu entwickeln, ist ein interdisziplinärer Zugang unerlässlich.
URL;VALUE=URI:https://dev.koelner-wissenschaftsrunde.de/kwr_termine/ringvorlesung-gendergerechtigkeit-als-schluessel-gegen-hunger-transformative-ansaetze-fuer-ernaehrungssicherung-in-der-entwicklungszusammenarbeit-2/
SUMMARY:Ringvorlesung: Gendergerechtigkeit als Schlüssel gegen Hunger – Transformative Ansätze für Ernährungssicherung in der Entwicklungszusammenarbeit
DTSTART:20251216T164500Z
END:VEVENT
END:VCALENDAR