BEGIN:VCALENDAR
VERSION:2.0
PRODID:-//hacksw/handcal//NONSGML v1.0//EN
CALSCALE:GREGORIAN
BEGIN:VEVENT
DTEND:20260113T180000Z
UID:69e89db5b273e
DTSTAMP:19700101T000000Z
LOCATION:
DESCRIPTION:Ein längst überfälliges Um­denken im Bauwesen hin zu einer Bestandsorientierung hat dazu geführt, dass neue Fragen an die Gestaltung von Planungsprozessen gestellt werden müssen. Denn das eingeübte Repertoire stößt vielfach an Grenzen, wenn es um ein Um- und Weiterbauen von Beständen oder das Anpassen und Nachjustieren von Prozessen geht.
URL;VALUE=URI:https://dev.koelner-wissenschaftsrunde.de/kwr_termine/vortragsreihe-und-podiumsdiskussion-prozesse-fuer-den-umbau-gestalten-nichts-zu-verlieren-at-25-26/
SUMMARY:Vortragsreihe und Podiumsdiskussion: Prozesse für den Umbau gestalten | Nichts zu Verlieren AT 25/26
DTSTART:20260113T180000Z
END:VEVENT
END:VCALENDAR