BEGIN:VCALENDAR
VERSION:2.0
PRODID:-//hacksw/handcal//NONSGML v1.0//EN
CALSCALE:GREGORIAN
BEGIN:VEVENT
DTEND:20260331T134500Z
UID:69e64b674a7a7
DTSTAMP:19700101T000000Z
LOCATION:
DESCRIPTION:Wir gehen auf eine spannende Entdeckungsreise durch unsere emotionale und mentale Welt und stellen uns die Frage: Was versteht man eigentlich unter 'psychischer Gesundheit'? Und wo können wir in schwierigen Zeiten Unterstützung finden?
URL;VALUE=URI:https://dev.koelner-wissenschaftsrunde.de/kwr_termine/gefuehle-und-gedanken-ein-blick-in-die-welt-der-emotionen-und-psychischen-gesundheit/
SUMMARY:Gefühle und Gedanken: Ein Blick in die Welt der Emotionen und psychischen Gesundheit
DTSTART:20260331T124500Z
END:VEVENT
END:VCALENDAR