BEGIN:VCALENDAR
VERSION:2.0
PRODID:-//hacksw/handcal//NONSGML v1.0//EN
CALSCALE:GREGORIAN
BEGIN:VEVENT
DTEND:20260105T183000Z
UID:69e6380f041b7
DTSTAMP:19700101T000000Z
LOCATION:
DESCRIPTION:Über Jahre hinweg wurde unverhältnismäßig laut und polarisierend über die seit 1.4.2024 gültige Cannabislegalisierung gestritten und medial berichtet. Profiteure sind seither noch lautere und präsentere Lobby-Akteure im Gesundheitswesen. Doch Cannabis – so irrelevant es gegenüber den Volksdrogen Alkohol und Nikotin auch ist – ist nicht frei Schäden und schon gar nicht – auch wenn manche Cannabishersteller es uns glauben machen wollen: gesund.
URL;VALUE=URI:https://dev.koelner-wissenschaftsrunde.de/kwr_termine/wer-sind-die-verlierer-der-cannabislegalisierung-und-was-koennte-zu-ihrem-schutz-getan-werden/
SUMMARY:Wer sind die Verlierer der Cannabislegalisierung und was könnte zu ihrem Schutz getan werden?
DTSTART:20260105T170000Z
END:VEVENT
END:VCALENDAR