BEGIN:VCALENDAR
VERSION:2.0
PRODID:-//hacksw/handcal//NONSGML v1.0//EN
CALSCALE:GREGORIAN
BEGIN:VEVENT
DTEND:20260620T140000Z
UID:69e64ab087272
DTSTAMP:19700101T000000Z
LOCATION:
DESCRIPTION:
URL;VALUE=URI:https://dev.koelner-wissenschaftsrunde.de/kwr_termine/tag-der-offenen-tuer-am-mpi-fuer-pflanzenzuechtungsforschung/
SUMMARY:Tag der Offenen Tür am MPI für Pflanzenzüchtungsforschung
DTSTART:20260620T090000Z
END:VEVENT
END:VCALENDAR