BEGIN:VCALENDAR
VERSION:2.0
PRODID:-//hacksw/handcal//NONSGML v1.0//EN
CALSCALE:GREGORIAN
BEGIN:VEVENT
DTEND:20260210T164500Z
UID:69e88c48bdf21
DTSTAMP:19700101T000000Z
LOCATION:
DESCRIPTION:Ein großer Teil der landwirtschaftlichen Produktion fällt dem Befall durch pflanzenpathogene Mikroorganismen zum Opfer. Faktoren wie Globalisierung, Monokulturen sowie der Klimawandel tragen zur Entstehung und Ausbreitung neuer Krankheitserreger bei. Für eine nachhaltige und effiziente Nahrungsproduktion müssen wir gleichzeitig verstehen, wie Mikroben Pflanzenkrankheiten verursachen und wie die Krankheitsresistenz unserer Nutzpflanzen verbessert werden kann.
URL;VALUE=URI:https://dev.koelner-wissenschaftsrunde.de/kwr_termine/ringvorlesung-was-unser-essen-krank-macht-die-rolle-pflanzenpathogener-mikroorganismen-in-der-landwirtschaft/
SUMMARY:Ringvorlesung: Was unser Essen krank macht – die Rolle pflanzenpathogener Mikroorganismen in der Landwirtschaft
DTSTART:20260210T164500Z
END:VEVENT
END:VCALENDAR