BEGIN:VCALENDAR
VERSION:2.0
PRODID:-//hacksw/handcal//NONSGML v1.0//EN
CALSCALE:GREGORIAN
BEGIN:VEVENT
DTEND:20260312T160000Z
UID:69e62485a93bc
DTSTAMP:19700101T000000Z
LOCATION:
DESCRIPTION:Wer genau also reiste im Mittelalter, wohin und wie?
URL;VALUE=URI:https://dev.koelner-wissenschaftsrunde.de/kwr_termine/fromme-pilger-neugierige-kaufleute-und-abenteuerlustige-ritter-reisen-im-mittelalter/
SUMMARY:Fromme Pilger, neugierige Kaufleute und abenteuerlustige Ritter: Reisen im Mittelalter
DTSTART:20260312T150000Z
END:VEVENT
END:VCALENDAR