BEGIN:VCALENDAR
VERSION:2.0
PRODID:-//hacksw/handcal//NONSGML v1.0//EN
CALSCALE:GREGORIAN
BEGIN:VEVENT
DTEND:20251218T180000Z
UID:69e637b3bae4e
DTSTAMP:19700101T000000Z
LOCATION:
DESCRIPTION:In this talk, Dr. Maša Jazbec presents her artistic and scientific research in the field of creative robotics, exploring how art can expand the ways we imagine and interact with intelligent machines.
URL;VALUE=URI:https://dev.koelner-wissenschaftsrunde.de/kwr_termine/dr-masa-jazbec-creative-robotics-art-in-the-age-of-ai-robotic-companions/
SUMMARY:Dr. Maša Jazbec – Creative Robotics: Art in the Age of AI Robotic Companions
DTSTART:20251218T180000Z
END:VEVENT
END:VCALENDAR