BEGIN:VCALENDAR
VERSION:2.0
PRODID:-//hacksw/handcal//NONSGML v1.0//EN
CALSCALE:GREGORIAN
BEGIN:VEVENT
DTEND:20260619T151500Z
UID:69e889443e1a3
DTSTAMP:19700101T000000Z
LOCATION:
DESCRIPTION:Was bedeutet Nachhaltigkeit und wie hängen die Sustainable Development Goals (SDGs) damit zusammen? In dieser Veranstaltung lernt ihr alles rund um das Sustainable Development Goal 12: „Nachhaltige Konsum- und Produktionsweisen“ kennen, diskutiert, welche Gründe hinter unseren Konsumentscheidungen stehen und wie wir sie nachhaltiger gestalten können. Am Ende erlebt ihr durch ein spannendes Experiment die systemischen Ursachen und das Gefangenendilemma der Nachhaltigkeit.
URL;VALUE=URI:https://dev.koelner-wissenschaftsrunde.de/kwr_termine/nachhaltiger-konsum-wer-ist-dafuer-verantwortlich-dass-wir-nachhaltiger-einkaufen-2/
SUMMARY:Nachhaltiger Konsum &#8211; Wer ist dafür verantwortlich, dass wir nachhaltiger einkaufen?
DTSTART:20260619T143000Z
END:VEVENT
END:VCALENDAR