BEGIN:VCALENDAR
VERSION:2.0
PRODID:-//hacksw/handcal//NONSGML v1.0//EN
CALSCALE:GREGORIAN
BEGIN:VEVENT
DTEND:20260223T170000Z
UID:69e64b07c9a11
DTSTAMP:19700101T000000Z
LOCATION:
DESCRIPTION:Ein Leben ohne Computer ist heutzutage kaum noch vorstellbar, viele Menschen tragen ständig kleine Computer mit sich rum, die ihren Alltag organisieren, nämlich die Handys.
URL;VALUE=URI:https://dev.koelner-wissenschaftsrunde.de/kwr_termine/geht-das-auch-schneller-was-computer-alles-koennen-gruppe-a/
SUMMARY:Geht das auch schneller? Was Computer alles können &#8211; Gruppe A
DTSTART:20260223T153000Z
END:VEVENT
END:VCALENDAR