BEGIN:VCALENDAR
VERSION:2.0
PRODID:-//hacksw/handcal//NONSGML v1.0//EN
CALSCALE:GREGORIAN
BEGIN:VEVENT
DTEND:20260316T170000Z
UID:69eb2d2a6c008
DTSTAMP:19700101T000000Z
LOCATION:
DESCRIPTION:Ein Leben ohne Computer ist heutzutage kaum noch vorstellbar...
URL;VALUE=URI:https://dev.koelner-wissenschaftsrunde.de/kwr_termine/geht-das-auch-schneller-was-computer-alles-koennen-gruppe-b/
SUMMARY:Geht das auch schneller? Was Computer alles können &#8211; Gruppe B
DTSTART:20260316T153000Z
END:VEVENT
END:VCALENDAR