BEGIN:VCALENDAR
VERSION:2.0
PRODID:-//hacksw/handcal//NONSGML v1.0//EN
CALSCALE:GREGORIAN
BEGIN:VEVENT
DTEND:20251217T180000Z
UID:69e6385c6eec4
DTSTAMP:19700101T000000Z
LOCATION:
DESCRIPTION:Auf Einladung von Anna Bromley und Andreas Langfeld präsentiert Luise Schröder ihr jüngst erschienenes Künstler*innenbuch Strömungen in Bewegung. Das Buch speist sich aus Schröders transgenerationaler, künstlerischer Erforschung der Frauen*- und Lesbenbewegung in der DDR. Nach der Künstler*innenpräsentation sprechen Anna Bromley und Andreas Langfeld mit der Künstlerin über ihr Einzoomen in Archivalien.
URL;VALUE=URI:https://dev.koelner-wissenschaftsrunde.de/kwr_termine/buchvorstellung-luise-schroeder-currents-in-motion-stroemungen-in-bewegung/
SUMMARY:Buchvorstellung: Luise Schröder (Currents in Motion) – Strömungen in Bewegung
DTSTART:20251217T180000Z
END:VEVENT
END:VCALENDAR