BEGIN:VCALENDAR
VERSION:2.0
PRODID:-//hacksw/handcal//NONSGML v1.0//EN
CALSCALE:GREGORIAN
BEGIN:VEVENT
DTEND:20260512T220000Z
UID:69e89d5e2fee3
DTSTAMP:19700101T000000Z
LOCATION:
DESCRIPTION:Als Ausdruck der vielfältigen Möglichkeiten kammermusikalischen Zusammenspiels an der Hochschule wird die 12. Auflage des spannenden Wettbewerbs für Klavier-, Streicher- und Bläserkammermusikensembles gefeiert. Studierende aller Hochschulstandorte mit ihren Ensembles werden zur Teilnahme am Wettbewerb ermutigt.
URL;VALUE=URI:https://dev.koelner-wissenschaftsrunde.de/kwr_termine/12-interner-kammermusikwettbewerb-1-wertungstag/
SUMMARY:12. Interner Kammer­musik­wett­bewerb &#8211; 1. Wertungstag
DTSTART:20260510T220000Z
END:VEVENT
END:VCALENDAR