BEGIN:VCALENDAR
VERSION:2.0
PRODID:-//hacksw/handcal//NONSGML v1.0//EN
CALSCALE:GREGORIAN
BEGIN:VEVENT
DTEND:20260326T170000Z
UID:69e8b3767949c
DTSTAMP:19700101T000000Z
LOCATION:
DESCRIPTION:Unfälle und auch Notfälle, bei denen der betroffene Mensch nicht mehr richtig atmet, können überall passieren. Viele Erwachsene haben oft Angst zu helfen, weil sie denken, sie könnten etwas falsch machen. Dabei ist es gar nicht so schwer!
URL;VALUE=URI:https://dev.koelner-wissenschaftsrunde.de/kwr_termine/notfallversorgung-und-wiederbelebung-gar-nicht-so-schwer-gruppe-c/
SUMMARY:Notfallversorgung und Wiederbelebung &#8211; gar nicht so schwer &#8211; Gruppe C
DTSTART:20260326T153000Z
END:VEVENT
END:VCALENDAR