BEGIN:VCALENDAR
VERSION:2.0
PRODID:-//hacksw/handcal//NONSGML v1.0//EN
CALSCALE:GREGORIAN
BEGIN:VEVENT
DTEND:20260209T170000Z
UID:69e63813eee2a
DTSTAMP:19700101T000000Z
LOCATION:
DESCRIPTION:Freud machte mit seinen Konzepten von Ich, Es und Über-Ich sowie der Traumdeutung die Welt des Unbewussten sichtbar und eröffnete neue Wege zur Analyse innerer Konflikte. Drei Vorträge ordnen sein Leben und Werk aus verschiedenen Perspektiven ein – Interessierte erwartet ein spannender Einblick in das Zusammenspiel von Wissenschaft, Geschichte und Medizin.
URL;VALUE=URI:https://dev.koelner-wissenschaftsrunde.de/kwr_termine/leben-und-sterben-historischer-persoenlichkeiten-sigmund-freud/
SUMMARY:Leben und Sterben historischer Persönlichkeiten: Sigmund Freud
DTSTART:20260209T150000Z
END:VEVENT
END:VCALENDAR