BEGIN:VCALENDAR
VERSION:2.0
PRODID:-//hacksw/handcal//NONSGML v1.0//EN
CALSCALE:GREGORIAN
BEGIN:VEVENT
DTEND:20260505T173000Z
UID:69e6381f82828
DTSTAMP:19700101T000000Z
LOCATION:
DESCRIPTION:Die Hochschule für Musik und Tanz Köln hat im vergangenen Jahr ihr 100-jähriges Bestehen ausgiebig und eindrucksvoll gefeiert. Die Spitzentöne präsentierten in zehn über das Jahr verteilten Konzerten eine spannende Reise durch 100 Jahre HfMT Köln, die jeweils eine Dekade beleuchteten.
URL;VALUE=URI:https://dev.koelner-wissenschaftsrunde.de/kwr_termine/spitzentoene-2026-aus-der-stille-geboren-ein-abend-mit-gustav-mahler/
SUMMARY:SPITZENTÖNE 2026 &#8211; AUS DER STILLE GEBOREN: EIN ABEND MIT GUSTAV MAHLER
DTSTART:20260505T173000Z
END:VEVENT
END:VCALENDAR