BEGIN:VCALENDAR
VERSION:2.0
PRODID:-//hacksw/handcal//NONSGML v1.0//EN
CALSCALE:GREGORIAN
BEGIN:VEVENT
DTEND:20260318T180000Z
UID:69e65010eac44
DTSTAMP:19700101T000000Z
LOCATION:
DESCRIPTION:Schlaue Ideen für unsere Gesundheit
URL;VALUE=URI:https://dev.koelner-wissenschaftsrunde.de/kwr_termine/geheimnisse-des-wuestenlebens-2/
SUMMARY:Geheimnisse des Wüstenlebens
DTSTART:20260318T160000Z
END:VEVENT
END:VCALENDAR