BEGIN:VCALENDAR
VERSION:2.0
PRODID:-//hacksw/handcal//NONSGML v1.0//EN
CALSCALE:GREGORIAN
BEGIN:VEVENT
DTEND:20260306T150000Z
UID:69e637d3a8a42
DTSTAMP:19700101T000000Z
LOCATION:
DESCRIPTION:Viele kluge Köpfe aus verschiedenen Fachrichtungen sitzen gemeinsam an einer riesigen Aufgabe: Sie wollen verstehen, wie Klima, Umwelt und menschliches Leben zusammenhängen. Dabei könnte sogar ein neuer Wissenschaftszweig erfunden werden!
URL;VALUE=URI:https://dev.koelner-wissenschaftsrunde.de/kwr_termine/wie-erfindet-man-eine-neue-wissenschaft-2/
SUMMARY:Wie erfindet man eine neue Wissenschaft?
DTSTART:20260306T133000Z
END:VEVENT
END:VCALENDAR