BEGIN:VCALENDAR
VERSION:2.0
PRODID:-//hacksw/handcal//NONSGML v1.0//EN
CALSCALE:GREGORIAN
BEGIN:VEVENT
DTEND:20260107T170000Z
UID:69e6395abf0b8
DTSTAMP:19700101T000000Z
LOCATION:
DESCRIPTION:Zukunftsmusik – ein Begriff, der seit Richard Wagner zwischen visionärem Anspruch und ideologischer Projektion oszilliert – wird in dieser Ringvorlesung neu verhandelt. Beitragende verschiedener musik und soundbezogener Disziplinen richten ihr Ohrenmerk auf klanglich bewegte Zukünfte: auf Utopien und Dystopien, auf futuristische Narrationen und spekulative Diskurspraktiken, auf Audio-Visionen und ›Sonic Fictions‹.
URL;VALUE=URI:https://dev.koelner-wissenschaftsrunde.de/kwr_termine/ringvorlesung-zukunftsmusik-3/
SUMMARY:RINGVORLESUNG &#8211; ZUKUNFT(((s)))MUSIK
DTSTART:20260107T170000Z
END:VEVENT
END:VCALENDAR