BEGIN:VCALENDAR
VERSION:2.0
PRODID:-//hacksw/handcal//NONSGML v1.0//EN
CALSCALE:GREGORIAN
BEGIN:VEVENT
DTEND:20251218T183000Z
UID:69e624eb2345e
DTSTAMP:19700101T000000Z
LOCATION:
DESCRIPTION:Michael Praetorius' Tätigkeit als Komponist und sein immenser Einfluss als Kultur-Vermittler im Mitteldeutschen Raum des frühen 17. Jahrhunderts stehen im Zentrum des Konzertprogramms. Neben adventlicher Vokal- und Instrumentalmusik von Michael Praetorius Creutzbergensis, dessen Lebensmotto titelgebend Pate stand, erklingen Kompositionen von Heinrich Schütz, Michael Altenburg und Matthias Mercker.
URL;VALUE=URI:https://dev.koelner-wissenschaftsrunde.de/kwr_termine/kirchenklaenge-mihi-patria-coelum/
SUMMARY:Kirchenklänge: Mihi Patria Coelum
DTSTART:20251218T183000Z
END:VEVENT
END:VCALENDAR