BEGIN:VCALENDAR
VERSION:2.0
PRODID:-//hacksw/handcal//NONSGML v1.0//EN
CALSCALE:GREGORIAN
BEGIN:VEVENT
DTEND:20260626T140000Z
UID:69e8895e3c0cc
DTSTAMP:19700101T000000Z
LOCATION:
DESCRIPTION:
URL;VALUE=URI:https://dev.koelner-wissenschaftsrunde.de/kwr_termine/stress-lindern-schlaf-foerdern/
SUMMARY:Stress lindern &#038; Schlaf fördern
DTSTART:20260626T120000Z
END:VEVENT
END:VCALENDAR