BEGIN:VCALENDAR
VERSION:2.0
PRODID:-//hacksw/handcal//NONSGML v1.0//EN
CALSCALE:GREGORIAN
BEGIN:VEVENT
DTEND:20260321T153000Z
UID:69eb2e2ed0b6d
DTSTAMP:19700101T000000Z
LOCATION:
DESCRIPTION:Das Essen der Menschen in der Jungsteinzeit
URL;VALUE=URI:https://dev.koelner-wissenschaftsrunde.de/kwr_termine/brot-und-kaese-und-was-sonst/
SUMMARY:Brot und Käse &#8211; und was sonst?
DTSTART:20260321T140000Z
END:VEVENT
END:VCALENDAR