BEGIN:VCALENDAR
VERSION:2.0
PRODID:-//hacksw/handcal//NONSGML v1.0//EN
CALSCALE:GREGORIAN
BEGIN:VEVENT
DTEND:20260614T150000Z
UID:69e637b083fe2
DTSTAMP:19700101T000000Z
LOCATION:
DESCRIPTION:Im Rahmen der Aktion „Offene Gartenpforte Rheinland 2026“ lädt Max-Planck-Institut für Pflanzenzüchtungsforschung in den Schaugarten WissenschaftsScheune ein. Gerne beantwortet das Team der Wissenschaftsscheune Ihre Fragen und bietet Führungen an.
URL;VALUE=URI:https://dev.koelner-wissenschaftsrunde.de/kwr_termine/offene-gartenpforte-rheinland-wissenschaftsscheune/
SUMMARY:Offene Gartenpforte Rheinland: WissenschaftsScheune
DTSTART:20260614T110000Z
END:VEVENT
END:VCALENDAR