BEGIN:VCALENDAR
VERSION:2.0
PRODID:-//hacksw/handcal//NONSGML v1.0//EN
CALSCALE:GREGORIAN
BEGIN:VEVENT
DTEND:20260324T170000Z
UID:69e88c43c7b6a
DTSTAMP:19700101T000000Z
LOCATION:
DESCRIPTION:Entdecke deine Superkräfte
URL;VALUE=URI:https://dev.koelner-wissenschaftsrunde.de/kwr_termine/schatzsuche-beim-menschen/
SUMMARY:Schatzsuche beim Menschen
DTSTART:20260324T150000Z
END:VEVENT
END:VCALENDAR