BEGIN:VCALENDAR
VERSION:2.0
PRODID:-//hacksw/handcal//NONSGML v1.0//EN
CALSCALE:GREGORIAN
BEGIN:VEVENT
DTEND:20260904T150000Z
UID:69e624aeace5a
DTSTAMP:19700101T000000Z
LOCATION:
DESCRIPTION:Ähnlich wie Mensch und Tier werden auch Pflanzen von Krankheiten und Schädlingen befallen. Ausgestattet mit einer Becherlupe gehen wir auf die Suche nach kranken Pflanzen, Schädlingen und auch Nützlingen.
URL;VALUE=URI:https://dev.koelner-wissenschaftsrunde.de/kwr_termine/auch-pflanzen-werden-krank-3/
SUMMARY:Auch Pflanzen werden krank
DTSTART:20260904T130000Z
END:VEVENT
END:VCALENDAR