BEGIN:VCALENDAR
VERSION:2.0
PRODID:-//hacksw/handcal//NONSGML v1.0//EN
CALSCALE:GREGORIAN
BEGIN:VEVENT
DTEND:20260226T171500Z
UID:69e89e028d2cf
DTSTAMP:19700101T000000Z
LOCATION:
DESCRIPTION:Wie versorgt und das Herz mit Blut?
URL;VALUE=URI:https://dev.koelner-wissenschaftsrunde.de/kwr_termine/der-motor-unseres-koerpers-2/
SUMMARY:Der Motor unseres Körpers
DTSTART:20260226T160000Z
END:VEVENT
END:VCALENDAR