BEGIN:VCALENDAR
VERSION:2.0
PRODID:-//hacksw/handcal//NONSGML v1.0//EN
CALSCALE:GREGORIAN
BEGIN:VEVENT
DTEND:20260117T153000Z
UID:69e63819e3e1e
DTSTAMP:19700101T000000Z
LOCATION:
DESCRIPTION:Die Veranstaltung ist als Workshop ausgelegt, der eine Einführung in die Selbstverteidigung ist. Wir beschäftigen uns mit verschiedenen Gegebenheiten – teilweise alltägliche Situationen, in die wir alle geraten können. Wir entwickeln für uns passende Techniken und Strategien, damit wir aus diesen Notlagen unverletzt wieder herauskommen.
URL;VALUE=URI:https://dev.koelner-wissenschaftsrunde.de/kwr_termine/unisport-selbstverteidigung-workshop/
SUMMARY:Unisport: Selbstverteidigung – Workshop
DTSTART:20260117T123000Z
END:VEVENT
END:VCALENDAR