BEGIN:VCALENDAR
VERSION:2.0
PRODID:-//hacksw/handcal//NONSGML v1.0//EN
CALSCALE:GREGORIAN
BEGIN:VEVENT
DTEND:20260319T164500Z
UID:69e624d69d82b
DTSTAMP:19700101T000000Z
LOCATION:
DESCRIPTION:Feldforschung in der Antarktis
URL;VALUE=URI:https://dev.koelner-wissenschaftsrunde.de/kwr_termine/ueberleben-in-der-kaelte/
SUMMARY:Überleben in der Kälte
DTSTART:20260319T154500Z
END:VEVENT
END:VCALENDAR