BEGIN:VCALENDAR
VERSION:2.0
PRODID:-//hacksw/handcal//NONSGML v1.0//EN
CALSCALE:GREGORIAN
BEGIN:VEVENT
DTEND:20260302T160000Z
UID:69e64ab0872b2
DTSTAMP:19700101T000000Z
LOCATION:
DESCRIPTION:Unsere Gehirne sind richtig verschieden!
URL;VALUE=URI:https://dev.koelner-wissenschaftsrunde.de/kwr_termine/komisch-krank-oder-einfach-nur-unterschiedlich/
SUMMARY:Komisch, krank oder einfach nur unterschiedlich?
DTSTART:20260302T150000Z
END:VEVENT
END:VCALENDAR