BEGIN:VCALENDAR
VERSION:2.0
PRODID:-//hacksw/handcal//NONSGML v1.0//EN
CALSCALE:GREGORIAN
BEGIN:VEVENT
DTEND:20260529T140000Z
UID:69e6378e181fc
DTSTAMP:19700101T000000Z
LOCATION:
DESCRIPTION:
URL;VALUE=URI:https://dev.koelner-wissenschaftsrunde.de/kwr_termine/schmerzen-sanft-lindern/
SUMMARY:Schmerzen sanft lindern
DTSTART:20260529T120000Z
END:VEVENT
END:VCALENDAR