BEGIN:VCALENDAR
VERSION:2.0
PRODID:-//hacksw/handcal//NONSGML v1.0//EN
CALSCALE:GREGORIAN
BEGIN:VEVENT
DTEND:20260326T160000Z
UID:69e637dda748b
DTSTAMP:19700101T000000Z
LOCATION:
DESCRIPTION:Von der Erdbeobachtung zum Astronaut:innentraining
URL;VALUE=URI:https://dev.koelner-wissenschaftsrunde.de/kwr_termine/kosmische-forscherinnen-2/
SUMMARY:Kosmische Forscher:innen
DTSTART:20260326T133000Z
END:VEVENT
END:VCALENDAR