BEGIN:VCALENDAR
VERSION:2.0
PRODID:-//hacksw/handcal//NONSGML v1.0//EN
CALSCALE:GREGORIAN
BEGIN:VEVENT
DTEND:20251221T150000Z
UID:69e637b16bc44
DTSTAMP:19700101T000000Z
LOCATION:
DESCRIPTION:Tradition, Emotion und beste Unterhaltung - Dafür stehen die Domstädter bereits seit 1970. Für den Karneval geboren, sind sie aus diesem Bereich nicht mehr wegzudenken. Mit „klassischen“ kölschen Tön und immer wieder neuen, für die Karnevalsbühne geschaffenen Arrangements moderner Werke, sind sie ein Glanzpunkt auf jeder Sitzung.
URL;VALUE=URI:https://dev.koelner-wissenschaftsrunde.de/kwr_termine/weihnachtskonzert-domstaedter-koeln-e-v/
SUMMARY:Weihnachtskonzert &#8211; Domstädter Köln e.V.
DTSTART:20251221T150000Z
END:VEVENT
END:VCALENDAR