BEGIN:VCALENDAR
VERSION:2.0
PRODID:-//hacksw/handcal//NONSGML v1.0//EN
CALSCALE:GREGORIAN
BEGIN:VEVENT
DTEND:20260422T220000Z
UID:69e64b323c3a0
DTSTAMP:19700101T000000Z
LOCATION:
DESCRIPTION:Jedes Jahr findet der bundesweite Girls'Day statt. Dieser Tag geht auf eine Initiative des Bundesministeriums für Familie, Senioren, Frauen und Jugend und der Bundesagentur für Arbeit zurück. Hintergrund dieses Veranstaltungstages ist der Wunsch, Mädchen einen Einblick in bisher eher männerdominierte Studien- und Arbeitsbereiche zu geben und Interesse für entsprechende Berufsmöglichkeiten zu wecken.
URL;VALUE=URI:https://dev.koelner-wissenschaftsrunde.de/kwr_termine/girlsday-3/
SUMMARY:Girls&#8217;Day
DTSTART:20260422T220000Z
END:VEVENT
END:VCALENDAR