BEGIN:VCALENDAR
VERSION:2.0
PRODID:-//hacksw/handcal//NONSGML v1.0//EN
CALSCALE:GREGORIAN
BEGIN:VEVENT
DTEND:20260623T151500Z
UID:69eb2de6db2be
DTSTAMP:19700101T000000Z
LOCATION:
DESCRIPTION:Werbung ist überall: warum finden wir manches toll und anderes nicht? Wir lüften die Tricks und du machst deine eigene Mini-Werbung.
URL;VALUE=URI:https://dev.koelner-wissenschaftsrunde.de/kwr_termine/was-macht-eigentlich-eine-chefin/
SUMMARY:Warum bringt uns Werbung dazu, etwas zu kaufen?
DTSTART:20260623T143000Z
END:VEVENT
END:VCALENDAR