BEGIN:VCALENDAR
VERSION:2.0
PRODID:-//hacksw/handcal//NONSGML v1.0//EN
CALSCALE:GREGORIAN
BEGIN:VEVENT
DTEND:20260304T173000Z
UID:69e637e72e693
DTSTAMP:19700101T000000Z
LOCATION:
DESCRIPTION:Mit spannenden Experimenten erforschen wir Wetter und Klima und besuchen die Wetterstation
URL;VALUE=URI:https://dev.koelner-wissenschaftsrunde.de/kwr_termine/meteorologie/
SUMMARY:Meteorologie
DTSTART:20260304T153000Z
END:VEVENT
END:VCALENDAR