BEGIN:VCALENDAR
VERSION:2.0
PRODID:-//hacksw/handcal//NONSGML v1.0//EN
CALSCALE:GREGORIAN
BEGIN:VEVENT
DTEND:20260421T153000Z
UID:69e60f947ed98
DTSTAMP:19700101T000000Z
LOCATION:
DESCRIPTION:
URL;VALUE=URI:https://dev.koelner-wissenschaftsrunde.de/kwr_termine/dlr-astroseminar-von-der-entwicklung-und-dem-hohen-wert-der-himmelsmechanik/
SUMMARY:DLR-Astroseminar | Von der Entwicklung und dem hohen Wert der Himmelsmechanik
DTSTART:20260421T133000Z
END:VEVENT
END:VCALENDAR